BEGIN:VCALENDAR
VERSION:2.0
PRODID:-//StorSuite - ECPv6.10.2//NONSGML v1.0//EN
CALSCALE:GREGORIAN
METHOD:PUBLISH
X-ORIGINAL-URL:https://storsuite.com
X-WR-CALDESC:Events for StorSuite
REFRESH-INTERVAL;VALUE=DURATION:PT1H
X-Robots-Tag:noindex
X-PUBLISHED-TTL:PT1H
BEGIN:VTIMEZONE
TZID:America/Chicago
BEGIN:DAYLIGHT
TZOFFSETFROM:-0600
TZOFFSETTO:-0500
TZNAME:CDT
DTSTART:20250309T080000
END:DAYLIGHT
BEGIN:STANDARD
TZOFFSETFROM:-0500
TZOFFSETTO:-0600
TZNAME:CST
DTSTART:20251102T070000
END:STANDARD
END:VTIMEZONE
BEGIN:VEVENT
DTSTART;TZID=America/Chicago:20250312T000000
DTEND;TZID=America/Chicago:20250314T000000
DTSTAMP:20260421T051649
CREATED:20250307T002221Z
LAST-MODIFIED:20250312T000354Z
UID:3753-1741737600-1741910400@storsuite.com
SUMMARY:2025 SSA Spring Conference and Trade Show
DESCRIPTION:StorSuite is heading to Orlando for SSA 2025\, bringing smarter solutions for self-storage operators who want better tech\, better service\, and real results. From high-converting websites and marketing that drives revenue to tenant protection that simplifies claims and third-party management that actually puts owners first\, we do it differently—and we do it better. Stop by Booth 109 and let’s talk about what actually works in storage.\n \nDownload the Event Schedule Here
URL:https://storsuite.com/event/2025-ssa-spring-conference-and-trade-show/
LOCATION:Rosen Shingle Creek\, 9939 Universal Blvd\, Orlando\, FL\, 32819
CATEGORIES:Trade Show
ATTACH;FMTTYPE=image/png:https://storsuite.com/wp-content/uploads/2025/03/SSA-Spring-Conference-Announcment-2025-3.png
END:VEVENT
END:VCALENDAR